BEGIN:VCALENDAR
VERSION:2.0
PRODID:-//wp-events-plugin.com//7.2.3.1//EN
BEGIN:VEVENT
UID:78@georgiahistory.com
DTSTART;TZID=America/New_York;VALUE=DATE:20250122
DTEND;TZID=America/New_York;VALUE=DATE:20250123
DTSTAMP:20250121T021805Z
URL:https://www.georgiahistory.com/events/weather-closure-january-22-2025/
SUMMARY:Weather Closure: January 22\, 2025
DESCRIPTION:In anticipation of inclement weather\, the Georgia Historical S
 ociety Research Center will be closed on Wednesday\, January 22. We will r
 esume normal operating hours on Thursday\, January 23.
CATEGORIES:GHS and RC Closings,GHS Closings
END:VEVENT
BEGIN:VTIMEZONE
TZID:America/New_York
X-LIC-LOCATION:America/New_York
BEGIN:STANDARD
DTSTART:20241103T010000
TZOFFSETFROM:-0400
TZOFFSETTO:-0500
TZNAME:EST
END:STANDARD
END:VTIMEZONE
END:VCALENDAR