BEGIN:VCALENDAR
VERSION:2.0
PRODID:-//wp-events-plugin.com//7.2.3.1//EN
BEGIN:VEVENT
UID:12@georgiahistory.com
DTSTART;TZID=America/New_York:20240211T120000
DTEND;TZID=America/New_York:20240211T160000
DTSTAMP:20250827T182047Z
URL:https://www.georgiahistory.com/events/super-museum-sunday/
SUMMARY:Super Museum Sunday
DESCRIPTION:Explore history\, arts\, and culture in communities throughout 
 Georgia as over 100 museums and historic sites across the state open to th
 e public for free during this popular annual event organized as part of th
 e annual Georgia History Festival.\n\nSunday\, February 11\, 2024\, from 1
 2:00 p.m. to 4:00 p.m.\, at sites across Georgia\nSponsored by\n\n\n&nbsp\
 ;\n\nPlan your Super Museum Sunday by browsing the list of participating s
 ites at georgiahistoryfestival.org.\n\n\n\nGeorgia History Festival Sponso
 rs\nTrustee\n\n\n\n\nFestival\n   \n\n\n\nFounding\n \n\n\n\nOglethorpe\
 n\n\n\n\nPresenting\n         \n
ATTACH;FMTTYPE=image/jpeg:https://www.georgiahistory.com/wp-content/upload
 s/2023/10/events-sms.jpg
END:VEVENT
BEGIN:VTIMEZONE
TZID:America/New_York
X-LIC-LOCATION:America/New_York
BEGIN:STANDARD
DTSTART:20231105T010000
TZOFFSETFROM:-0400
TZOFFSETTO:-0500
TZNAME:EST
END:STANDARD
END:VTIMEZONE
END:VCALENDAR