BEGIN:VCALENDAR
VERSION:2.0
PRODID:-//wp-events-plugin.com//7.2.3.1//EN
BEGIN:VEVENT
UID:75@georgiahistory.com
DTSTART;TZID=America/New_York;VALUE=DATE:20251111
DTEND;TZID=America/New_York;VALUE=DATE:20251112
DTSTAMP:20241223T201532Z
URL:https://www.georgiahistory.com/events/holiday-closure-veterans-day-5/
SUMMARY:Holiday Closure: Veteran’s Day
DESCRIPTION:The Georgia Historical Society administrative offices and the G
 HS Research Center will be closed on Tuesday\, November 11th\, 2025\, in o
 bservance of Veteran’s Day.
CATEGORIES:GHS and RC Closings,GHS Closings
END:VEVENT
BEGIN:VTIMEZONE
TZID:America/New_York
X-LIC-LOCATION:America/New_York
BEGIN:STANDARD
DTSTART:20251102T010000
TZOFFSETFROM:-0400
TZOFFSETTO:-0500
TZNAME:EST
END:STANDARD
END:VTIMEZONE
END:VCALENDAR