BEGIN:VCALENDAR
VERSION:2.0
PRODID:-//wp-events-plugin.com//7.2.3.1//EN
BEGIN:VEVENT
UID:119@georgiahistory.com
DTSTART;TZID=America/New_York:20261126T000000
DTEND;TZID=America/New_York:20261127T000000
DTSTAMP:20251211T205821Z
URL:https://www.georgiahistory.com/events/holiday-closure-thanksgiving-8/
SUMMARY:Holiday Closure: Thanksgiving
DESCRIPTION:The Georgia Historical Society administrative offices and the G
 HS Research Center will be closed on Thursday\, November 26 and Friday\, N
 ovember 27\, for Thanksgiving.
CATEGORIES:GHS Closings
END:VEVENT
BEGIN:VTIMEZONE
TZID:America/New_York
X-LIC-LOCATION:America/New_York
BEGIN:STANDARD
DTSTART:20261101T010000
TZOFFSETFROM:-0400
TZOFFSETTO:-0500
TZNAME:EST
END:STANDARD
END:VTIMEZONE
END:VCALENDAR