BEGIN:VCALENDAR
VERSION:2.0
PRODID:-//wp-events-plugin.com//7.2.3.1//EN
BEGIN:VEVENT
UID:3@georgiahistory.com
DTSTART;TZID=America/New_York;VALUE=DATE:20231123
DTEND;TZID=America/New_York;VALUE=DATE:20231125
DTSTAMP:20231115T163153Z
URL:https://www.georgiahistory.com/events/holiday-closure-thanksgiving-3/
SUMMARY:Holiday closure: Thanksgiving
DESCRIPTION:The Georgia Historical Society will be closed on November 23 an
 d November 24 for the Thanksgiving holiday.
CATEGORIES:GHS Closings
END:VEVENT
BEGIN:VTIMEZONE
TZID:America/New_York
X-LIC-LOCATION:America/New_York
BEGIN:STANDARD
DTSTART:20231105T010000
TZOFFSETFROM:-0400
TZOFFSETTO:-0500
TZNAME:EST
END:STANDARD
END:VTIMEZONE
END:VCALENDAR