BEGIN:VCALENDAR
VERSION:2.0
PRODID:-//wp-events-plugin.com//7.2.3.1//EN
BEGIN:VEVENT
UID:73@georgiahistory.com
DTSTART;TZID=America/New_York;VALUE=DATE:20250901
DTEND;TZID=America/New_York;VALUE=DATE:20250902
DTSTAMP:20241223T200557Z
URL:https://www.georgiahistory.com/events/holiday-closure-labor-day-5/
SUMMARY:Holiday Closure: Labor Day
DESCRIPTION:The Georgia Historical Society administrative offices and the G
 HS Research Center will be closed on Monday\, September 1st\, 2025\, in ob
 servance of Labor Day.
CATEGORIES:GHS and RC Closings,GHS Closings
END:VEVENT
BEGIN:VTIMEZONE
TZID:America/New_York
X-LIC-LOCATION:America/New_York
BEGIN:DAYLIGHT
DTSTART:20250309T030000
TZOFFSETFROM:-0500
TZOFFSETTO:-0400
TZNAME:EDT
END:DAYLIGHT
END:VTIMEZONE
END:VCALENDAR