BEGIN:VCALENDAR
VERSION:2.0
PRODID:-//wp-events-plugin.com//7.2.3.1//EN
BEGIN:VEVENT
UID:71@georgiahistory.com
DTSTART;TZID=America/New_York;VALUE=DATE:20250619
DTEND;TZID=America/New_York;VALUE=DATE:20250620
DTSTAMP:20241223T195544Z
URL:https://www.georgiahistory.com/events/holiday-closure-juneteenth-3/
SUMMARY:Holiday Closure: Juneteenth
DESCRIPTION:The Georgia Historical Society administrative offices and the G
 HS Research Center will be closed on Thursday\, June 19th\, 2025\, in obse
 rvance of Juneteenth.
CATEGORIES:GHS and RC Closings,GHS Closings
END:VEVENT
BEGIN:VTIMEZONE
TZID:America/New_York
X-LIC-LOCATION:America/New_York
BEGIN:DAYLIGHT
DTSTART:20250309T030000
TZOFFSETFROM:-0500
TZOFFSETTO:-0400
TZNAME:EDT
END:DAYLIGHT
END:VTIMEZONE
END:VCALENDAR