BEGIN:VCALENDAR
VERSION:2.0
PRODID:-//wp-events-plugin.com//7.2.3.1//EN
BEGIN:VEVENT
UID:72@georgiahistory.com
DTSTART;TZID=America/New_York;VALUE=DATE:20250704
DTEND;TZID=America/New_York;VALUE=DATE:20250705
DTSTAMP:20241223T200108Z
URL:https://www.georgiahistory.com/events/holiday-closure-independence-day
 -5/
SUMMARY:Holiday Closure: Independence Day
DESCRIPTION:The Georgia Historical Society administrative offices and the G
 HS Research Center will be closed on Friday\, July 4th\, 2025\, for Indepe
 ndence Day.
CATEGORIES:GHS and RC Closings,GHS Closings
END:VEVENT
BEGIN:VTIMEZONE
TZID:America/New_York
X-LIC-LOCATION:America/New_York
BEGIN:DAYLIGHT
DTSTART:20250309T030000
TZOFFSETFROM:-0500
TZOFFSETTO:-0400
TZNAME:EDT
END:DAYLIGHT
END:VTIMEZONE
END:VCALENDAR