BEGIN:VCALENDAR
VERSION:2.0
PRODID:-//wp-events-plugin.com//7.2.3.1//EN
BEGIN:VEVENT
UID:117@georgiahistory.com
DTSTART;TZID=America/New_York:20261012T000000
DTEND;TZID=America/New_York:20261012T000000
DTSTAMP:20251211T203602Z
URL:https://www.georgiahistory.com/events/holiday-closure-columbus-day-4/
SUMMARY:Holiday Closure: Columbus Day
DESCRIPTION:The Georgia Historical Society administrative offices and the G
 HS Research Center will be closed on Monday\, October 12\, for Columbus Da
 y.
CATEGORIES:GHS Closings
END:VEVENT
BEGIN:VTIMEZONE
TZID:America/New_York
X-LIC-LOCATION:America/New_York
BEGIN:DAYLIGHT
DTSTART:20260308T030000
TZOFFSETFROM:-0500
TZOFFSETTO:-0400
TZNAME:EDT
END:DAYLIGHT
END:VTIMEZONE
END:VCALENDAR