BEGIN:VCALENDAR
VERSION:2.0
PRODID:-//wp-events-plugin.com//7.2.3.1//EN
BEGIN:VEVENT
UID:77@georgiahistory.com
DTSTART;TZID=America/New_York;VALUE=DATE:20251225
DTEND;TZID=America/New_York;VALUE=DATE:20251226
DTSTAMP:20241223T202236Z
URL:https://www.georgiahistory.com/events/holiday-closure-christmas-4/
SUMMARY:Holiday Closure: Christmas
DESCRIPTION:The Georgia Historical Society administrative offices and the G
 HS Research Center will be closed on Thursday\, December 25th\, 2025\, for
  Christmas.
CATEGORIES:GHS and RC Closings,GHS Closings
END:VEVENT
BEGIN:VTIMEZONE
TZID:America/New_York
X-LIC-LOCATION:America/New_York
BEGIN:STANDARD
DTSTART:20251102T010000
TZOFFSETFROM:-0400
TZOFFSETTO:-0500
TZNAME:EST
END:STANDARD
END:VTIMEZONE
END:VCALENDAR