BEGIN:VCALENDAR
VERSION:2.0
PRODID:-//wp-events-plugin.com//7.2.3.1//EN
BEGIN:VEVENT
UID:100@georgiahistory.com
DTSTART;TZID=America/New_York:20250606T120000
DTEND;TZID=America/New_York:20250606T120000
DTSTAMP:20250829T140256Z
URL:https://www.georgiahistory.com/events/historical-marker-dedication-lew
 is-grizzard-1946-1994/
SUMMARY:Historical Marker Dedication: Lewis Grizzard (1946-1994)
DESCRIPTION:The Georgia Historical Society will hold a dedication for a new
  historical marker: Lewis Grizzard (1946-1994). The dedication will take p
 lace on Friday\, June 6\, 2025\, at 12:00 p.m.\, at the Moreland Hometown 
 Heritage Museum\, 7 Main Street\, in Moreland\, Georgia.\n\nPublic parking
  is available surrounding the Town Square.\n\nThe marker is sponsored by t
 he Waters Family Foundation.
CATEGORIES:Events,Historical Markers
LOCATION:Moreland Hometown Heritage Museum\, 7 Main Street\, Moreland\, GA\
 , 30259\, United States
X-APPLE-STRUCTURED-LOCATION;VALUE=URI;X-ADDRESS=7 Main Street\, Moreland\, 
 GA\, 30259\, United States;X-APPLE-RADIUS=100;X-TITLE=Moreland Hometown He
 ritage Museum:geo:0,0
END:VEVENT
BEGIN:VTIMEZONE
TZID:America/New_York
X-LIC-LOCATION:America/New_York
BEGIN:DAYLIGHT
DTSTART:20250309T030000
TZOFFSETFROM:-0500
TZOFFSETTO:-0400
TZNAME:EDT
END:DAYLIGHT
END:VTIMEZONE
END:VCALENDAR