BEGIN:VCALENDAR
VERSION:2.0
PRODID:-//wp-events-plugin.com//7.2.3.1//EN
BEGIN:VEVENT
UID:102@georgiahistory.com
DTSTART;TZID=America/New_York;VALUE=DATE:20250829
DTEND;TZID=America/New_York;VALUE=DATE:20250901
DTSTAMP:20250828T140010Z
URL:https://www.georgiahistory.com/events/ghs-at-willow-hill-heritage-fest
 ival/
SUMMARY:GHS at Willow Hill Heritage Festival
DESCRIPTION:\n\nFriends in Bulloch County and surrounding areas\, we encour
 age you to attend this weekend’s Willow Hill Heritage Festival in Portal
 \, Georgia. The festival runs Friday\, August 29 through Sunday\, August 3
 1\, and includes presentations\, archiving workshops\, museum tours and ex
 hibits\, food\, gospel music\, and more. Be sure to say stop by and say he
 llo to LaPortia Mosley\, GHS Community Engagement Officer\, representing G
 HS with information about our Community Archives Initiative.\n\nThe festiv
 al marks the 151st anniversary of the founding of the Willow Hill School s
 hortly after the end of the Civil War by formerly enslaved residents of th
 e Willow Hill area for their children.\n\nFree and open to the public. Lea
 rn more at https://www.willowhillheritage.org/heritage-fest.
CATEGORIES:Events
END:VEVENT
BEGIN:VTIMEZONE
TZID:America/New_York
X-LIC-LOCATION:America/New_York
BEGIN:DAYLIGHT
DTSTART:20250309T030000
TZOFFSETFROM:-0500
TZOFFSETTO:-0400
TZNAME:EDT
END:DAYLIGHT
END:VTIMEZONE
END:VCALENDAR