BEGIN:VCALENDAR
VERSION:2.0
PRODID:-//wp-events-plugin.com//7.2.3.1//EN
BEGIN:VEVENT
UID:122@georgiahistory.com
DTSTART;TZID=America/New_York:20260212T070000
DTEND;TZID=America/New_York:20260212T070000
DTSTAMP:20260210T223153Z
URL:https://www.georgiahistory.com/events/georgia-day-video-presentation/
SUMMARY:Georgia Day Video Presentation
DESCRIPTION:https://youtu.be/TpZaz3Ij2w4?si=vS8L-jofyFSKi3ak\n\nHappy Georg
 ia Day! In recognition of the 293rd anniversary of Georgia’s founding\, 
 please enjoy this short online program\, a visual exploration of the colon
 y’s founding and early development.\n\nSee educational resources that ac
 company this video at georgiahistoryfestival.org/georgiaday.
CATEGORIES:America250,Events
END:VEVENT
BEGIN:VTIMEZONE
TZID:America/New_York
X-LIC-LOCATION:America/New_York
BEGIN:STANDARD
DTSTART:20251102T010000
TZOFFSETFROM:-0400
TZOFFSETTO:-0500
TZNAME:EST
END:STANDARD
END:VTIMEZONE
END:VCALENDAR