BEGIN:VCALENDAR
VERSION:2.0
PRODID:-//wp-events-plugin.com//7.2.3.1//EN
BEGIN:VEVENT
UID:98@georgiahistory.com
DTSTART;TZID=America/New_York:20260208T120000
DTEND;TZID=America/New_York:20260208T160000
DTSTAMP:20260122T185314Z
URL:https://www.georgiahistory.com/events/2026-super-museum-sunday/
SUMMARY:2026 Super Museum Sunday
DESCRIPTION:Explore history\, arts\, and culture in communities throughout 
 Georgia as over 100 museums and historic sites across the state open to th
 e public for free during this popular event organized as part of the annua
 l Georgia History Festival.\nSponsored by\n\n\n\n\n\n\nParticipating Sites
 \nBrowse a list of participating sites →\nView an interactive map →\n
ATTACH;FMTTYPE=image/jpeg:https://www.georgiahistory.com/wp-content/upload
 s/2024/09/super-museum-sunday.jpg
CATEGORIES:Events
END:VEVENT
BEGIN:VTIMEZONE
TZID:America/New_York
X-LIC-LOCATION:America/New_York
BEGIN:STANDARD
DTSTART:20251102T010000
TZOFFSETFROM:-0400
TZOFFSETTO:-0500
TZNAME:EST
END:STANDARD
END:VTIMEZONE
END:VCALENDAR