BEGIN:VCALENDAR
VERSION:2.0
PRODID:-//wp-events-plugin.com//7.2.3.1//EN
BEGIN:VEVENT
UID:99@georgiahistory.com
DTSTART;TZID=America/New_York;VALUE=DATE:20260212
DTEND;TZID=America/New_York;VALUE=DATE:20260213
DTSTAMP:20251226T203305Z
URL:https://www.georgiahistory.com/events/2026-georgia-day-expo/
SUMMARY:Georgia Day Expo
DESCRIPTION:Students explore Georgia history through demonstrations and han
 ds-on activity booths during this commemoration of the founding of Georgia
  at Savannah on February 12\, 1733. Educators\, parents\, historical inter
 preters\, and community and civic leaders take part in this fun and engagi
 ng program that utilizes an all-weather\, indoor venue to encourage studen
 ts to explore the Georgia History Festival theme. \n\nThe Georgia Day Expo
  takes place in Savannah and is a closed event\, open to school groups by 
 reservation. For more information\, please contact the GHS education team 
 at education@georgiahistory.com.\nRegistration is now open! \n\nRegister 
 for the Georgia Day Expo\n
ATTACH;FMTTYPE=image/jpeg:https://www.georgiahistory.com/wp-content/upload
 s/2025/05/ga-day-expo-2.jpg
CATEGORIES:Events
END:VEVENT
BEGIN:VTIMEZONE
TZID:America/New_York
X-LIC-LOCATION:America/New_York
BEGIN:STANDARD
DTSTART:20251102T010000
TZOFFSETFROM:-0400
TZOFFSETTO:-0500
TZNAME:EST
END:STANDARD
END:VTIMEZONE
END:VCALENDAR