BEGIN:VCALENDAR
VERSION:2.0
PRODID:-//wp-events-plugin.com//7.2.3.1//EN
BEGIN:VEVENT
UID:96@georgiahistory.com
DTSTART;TZID=America/New_York:20260207T100000
DTEND;TZID=America/New_York:20260207T160000
DTSTAMP:20260108T213050Z
URL:https://www.georgiahistory.com/events/2026-colonial-faire-and-muster/
SUMMARY:2026 Colonial Faire and Muster
DESCRIPTION:Sponsored by\n\nwith support from the Society of Colonial Wars 
 in the State of Georgia\nExplore this living-history event at Wormsloe Sta
 te Historic Site and learn about life in eighteenth-century Georgia throug
 h cooking\, dancing\, craft\, and military demonstrations. Fees apply on S
 aturday\, but admission is free on Sunday.\n\n2025 Colonial Faire &amp\; M
 uster\nFebruary 7+8\, 2026\n10:00 a.m. – 4:00 p.m.
ATTACH;FMTTYPE=image/jpeg:https://www.georgiahistory.com/wp-content/upload
 s/2024/10/colonial-faire-and-muster-1.jpg
CATEGORIES:America250,Events
LOCATION:Wormsloe State Historic Site\, 7601 Skidaway Road\, Savannah\, Geo
 rgia\, 31406\, United States
X-APPLE-STRUCTURED-LOCATION;VALUE=URI;X-ADDRESS=7601 Skidaway Road\, Savann
 ah\, Georgia\, 31406\, United States;X-APPLE-RADIUS=100;X-TITLE=Wormsloe S
 tate Historic Site:geo:0,0
END:VEVENT
BEGIN:VTIMEZONE
TZID:America/New_York
X-LIC-LOCATION:America/New_York
BEGIN:STANDARD
DTSTART:20251102T010000
TZOFFSETFROM:-0400
TZOFFSETTO:-0500
TZNAME:EST
END:STANDARD
END:VTIMEZONE
END:VCALENDAR